BEGIN:VCALENDAR
VERSION:2.0
PRODID:-//SKO Žilina - ECPv6.5.1.3//NONSGML v1.0//EN
CALSCALE:GREGORIAN
METHOD:PUBLISH
X-WR-CALNAME:SKO Žilina
X-ORIGINAL-URL:https://skozilina.sk/?lang=en
X-WR-CALDESC:Events for SKO Žilina
REFRESH-INTERVAL;VALUE=DURATION:PT1H
X-Robots-Tag:noindex
X-PUBLISHED-TTL:PT1H
BEGIN:VTIMEZONE
TZID:Europe/Bratislava
BEGIN:DAYLIGHT
TZOFFSETFROM:+0100
TZOFFSETTO:+0200
TZNAME:CEST
DTSTART:20260329T010000
END:DAYLIGHT
BEGIN:STANDARD
TZOFFSETFROM:+0200
TZOFFSETTO:+0100
TZNAME:CET
DTSTART:20261025T010000
END:STANDARD
END:VTIMEZONE
BEGIN:VEVENT
DTSTART;TZID=Europe/Bratislava:20260604T190000
DTEND;TZID=Europe/Bratislava:20260604T210000
DTSTAMP:20260425T012123
CREATED:20250701T134153Z
LAST-MODIFIED:20260414T110958Z
UID:20887-1780599600-1780606800@skozilina.sk
SUMMARY:CHANCE FOR YOUTH
DESCRIPTION:Marek Prášil\, conductor\, CZ\nMagdaléna Remenárová\, piano\nBencé Szabó\, baritone\nRastislav Kaličák\, violin\n\nTicket prices: 10\,- 12\,- 14\,- €. Season tickets.
URL:https://skozilina.sk/podujatie/sanca-mladym-3/?lang=en
LOCATION:Fatra House of Arts\, Dolný Val 47\, Žilina\, Žilinský kraj\, 010 01\, Slovenská republika
CATEGORIES:52. sezóna 2025/2026
ATTACH;FMTTYPE=image/jpeg:https://skozilina.sk/wp-content/uploads/2025/07/Prasil-Marek-dirigent.jpg
ORGANIZER;CN="Slovak Sinfonietta %C5%BDilina":MAILTO:vstupenky@skozilina.sk
END:VEVENT
BEGIN:VEVENT
DTSTART;TZID=Europe/Bratislava:20260611T190000
DTEND;TZID=Europe/Bratislava:20260611T210000
DTSTAMP:20260425T012123
CREATED:20250701T134431Z
LAST-MODIFIED:20260415T081051Z
UID:20889-1781204400-1781211600@skozilina.sk
SUMMARY:ORGAN EVENING
DESCRIPTION:Tomáš Mihalik\, organ\nNina Suľová\, organ\nTicket price: 12\,- €. Season tickets.
URL:https://skozilina.sk/podujatie/organovy-vecer-3/?lang=en
LOCATION:Fatra House of Arts\, Dolný Val 47\, Žilina\, Žilinský kraj\, 010 01\, Slovenská republika
CATEGORIES:52. sezóna 2025/2026
ATTACH;FMTTYPE=image/jpeg:https://skozilina.sk/wp-content/uploads/2025/07/Mihalik-Tomas-organ-2-e1751377612153.jpg
ORGANIZER;CN="Slovak Sinfonietta %C5%BDilina":MAILTO:vstupenky@skozilina.sk
END:VEVENT
BEGIN:VEVENT
DTSTART;TZID=Europe/Bratislava:20260618T190000
DTEND;TZID=Europe/Bratislava:20260618T210000
DTSTAMP:20260425T012123
CREATED:20250701T134841Z
LAST-MODIFIED:20250702T132132Z
UID:20891-1781809200-1781816400@skozilina.sk
SUMMARY:CLOSING CONCERT 52. SEASONS
DESCRIPTION:Leoš Svárovský\, honorary chief conductor\nNazar Spas\, French horn\, 1. hornist of the Slovak Sinfonietta Žilina\nMischa Carr\, piano\, UK\nTicket prices: 12\,- 14\,- 16\,- €. Season tickets.
URL:https://skozilina.sk/podujatie/zaverecny-koncert-52-sezony/?lang=en
LOCATION:Fatra House of Arts\, Dolný Val 47\, Žilina\, Žilinský kraj\, 010 01\, Slovenská republika
CATEGORIES:52. sezóna 2025/2026
ATTACH;FMTTYPE=image/jpeg:https://skozilina.sk/wp-content/uploads/2025/07/Svarovsky-Leos-2.jpg
ORGANIZER;CN="Slovak Sinfonietta %C5%BDilina":MAILTO:vstupenky@skozilina.sk
END:VEVENT
END:VCALENDAR