BEGIN:VCALENDAR
VERSION:2.0
PRODID:-//SKO Žilina - ECPv6.5.1.3//NONSGML v1.0//EN
CALSCALE:GREGORIAN
METHOD:PUBLISH
X-ORIGINAL-URL:https://skozilina.sk
X-WR-CALDESC:Events for SKO Žilina
REFRESH-INTERVAL;VALUE=DURATION:PT1H
X-Robots-Tag:noindex
X-PUBLISHED-TTL:PT1H
BEGIN:VTIMEZONE
TZID:Europe/Bratislava
BEGIN:DAYLIGHT
TZOFFSETFROM:+0100
TZOFFSETTO:+0200
TZNAME:CEST
DTSTART:20260329T010000
END:DAYLIGHT
BEGIN:STANDARD
TZOFFSETFROM:+0200
TZOFFSETTO:+0100
TZNAME:CET
DTSTART:20261025T010000
END:STANDARD
END:VTIMEZONE
BEGIN:VEVENT
DTSTART;TZID=Europe/Bratislava:20260506T180000
DTEND;TZID=Europe/Bratislava:20260506T200000
DTSTAMP:20260424T213328
CREATED:20250728T091156Z
LAST-MODIFIED:20260422T141322Z
UID:20924-1778090400-1778097600@skozilina.sk
SUMMARY:SYMFONICKÝ ORCHESTER KONZERVATÓRIA II.
DESCRIPTION:Spojený symfonický orchester Konzervatória Žilina a Banská Bystrica\nMiešaný zbor konzervatória Žilina\nMichal Vaňouček\, dirigent\nŠtefan Sedlický\, zbormajster\nPavol Bohdan Zápotočný\, klavír\nKatarína Ambrózová\, husle\nVstupné: 12\,- €. Abonentné vstupenky neplatia. \nVážení zákazníci\, v prípade technických problémov pri online nákupe lístkov uhrádzaných kartou prosíme\, aby ste pri svojej objednávke využili možnosť osobného vyzdvihnutia.
URL:https://skozilina.sk/podujatie/symfonicky-orchester-konzervatoria-5/
LOCATION:Žilinský kraj
CATEGORIES:52. sezóna 2025/2026
ATTACH;FMTTYPE=image/jpeg:https://skozilina.sk/wp-content/uploads/2025/07/Symfonicky-orchester-Konzervatoria-2024.jpg
END:VEVENT
BEGIN:VEVENT
DTSTART;TZID=Europe/Bratislava:20260514T190000
DTEND;TZID=Europe/Bratislava:20260514T210000
DTSTAMP:20260424T213328
CREATED:20250701T132306Z
LAST-MODIFIED:20251128T115615Z
UID:20749-1778785200-1778792400@skozilina.sk
SUMMARY:VEČER MOZARTOVEJ HUDBY
DESCRIPTION:František Macek\, šéfdirigent ŠKO Žilina\nPetr Pomkla\, flauta\, ČR\nKateřina Englichová\, harfa\, ČR\nVstupné: 10\,- 12\,- 14\,- €. Abonentné vstupenky platia. \nVážení zákazníci\, v prípade technických problémov pri online nákupe lístkov uhrádzaných kartou prosíme\, aby ste pri svojej objednávke využili možnosť osobného vyzdvihnutia.
URL:https://skozilina.sk/podujatie/vecer-mozartovej-hudby/
LOCATION:Dom umenia Fatra\, Dolný val 47\, Žilina\, Žilinský kraj\, 010 01\, Slovenská republika
CATEGORIES:52. sezóna 2025/2026
ATTACH;FMTTYPE=image/jpeg:https://skozilina.sk/wp-content/uploads/2025/07/Englichova-Katerina-harfa-3.jpg
ORGANIZER;CN="%C5%A0t%C3%A1tny komorn%C3%BD orchester %C5%BDilina":MAILTO:vstupenky@skozilina.sk
END:VEVENT
BEGIN:VEVENT
DTSTART;TZID=Europe/Bratislava:20260517T160000
DTEND;TZID=Europe/Bratislava:20260517T170000
DTSTAMP:20260424T213328
CREATED:20250701T141657Z
LAST-MODIFIED:20260313T092727Z
UID:20795-1779033600-1779037200@skozilina.sk
SUMMARY:TÁRAJKO A POPLETAJKA - NARODENINOVÁ PÁRTY
DESCRIPTION:Jednotné vstupné: 6\,- €. Abonentné vstupenky neplatia. Zľavy platia len pre ZŤP a ZŤPS.\nNa konci každého koncertu sa losuje tombola a odmeňujú najkrajšie výkresy. \nVážení zákazníci\, v prípade technických problémov pri online nákupe lístkov uhrádzaných kartou prosíme\, aby ste pri svojej objednávke využili možnosť osobného vyzdvihnutia.
URL:https://skozilina.sk/podujatie/matine-pre-deti-a-rodicov-tarajko-a-popletajka-narodeninova-party/
LOCATION:Dom umenia Fatra\, Dolný val 47\, Žilina\, Žilinský kraj\, 010 01\, Slovenská republika
CATEGORIES:52. sezóna 2025/2026
ATTACH;FMTTYPE=image/jpeg:https://skozilina.sk/wp-content/uploads/2025/02/SKO5197_2025-02-09-Matine-Tarajko-Popletajka_web.jpg
ORGANIZER;CN="%C5%A0t%C3%A1tny komorn%C3%BD orchester %C5%BDilina":MAILTO:vstupenky@skozilina.sk
END:VEVENT
BEGIN:VEVENT
DTSTART;TZID=Europe/Bratislava:20260521T190000
DTEND;TZID=Europe/Bratislava:20260521T210000
DTSTAMP:20260424T213328
CREATED:20250701T132816Z
LAST-MODIFIED:20251128T115459Z
UID:20754-1779390000-1779397200@skozilina.sk
SUMMARY:NETRADIČNÉ SÓLOVÉ NÁSTROJE
DESCRIPTION:Konstantin Ilievsky\, dirigent\nKlára Kubriczká Přecechtělová\, flauta\nMarián Michalec\, bicie nástroje\nVstupné: 10\,- 12\,- 14\,- €. Abonentné vstupenky platia. \nVážení zákazníci\, v prípade technických problémov pri online nákupe lístkov uhrádzaných kartou prosíme\, aby ste pri svojej objednávke využili možnosť osobného vyzdvihnutia.
URL:https://skozilina.sk/podujatie/netradicne-solove-nastroje/
LOCATION:Dom umenia Fatra\, Dolný val 47\, Žilina\, Žilinský kraj\, 010 01\, Slovenská republika
CATEGORIES:52. sezóna 2025/2026
ATTACH;FMTTYPE=image/jpeg:https://skozilina.sk/wp-content/uploads/2025/07/DSC_3523B.jpg
ORGANIZER;CN="%C5%A0t%C3%A1tny komorn%C3%BD orchester %C5%BDilina":MAILTO:vstupenky@skozilina.sk
END:VEVENT
END:VCALENDAR