BEGIN:VCALENDAR
VERSION:2.0
PRODID:-//SKO Žilina - ECPv6.5.1.3//NONSGML v1.0//EN
CALSCALE:GREGORIAN
METHOD:PUBLISH
X-WR-CALNAME:SKO Žilina
X-ORIGINAL-URL:https://skozilina.sk/?lang=en
X-WR-CALDESC:Events for SKO Žilina
REFRESH-INTERVAL;VALUE=DURATION:PT1H
X-Robots-Tag:noindex
X-PUBLISHED-TTL:PT1H
BEGIN:VTIMEZONE
TZID:Europe/Bratislava
BEGIN:DAYLIGHT
TZOFFSETFROM:+0100
TZOFFSETTO:+0200
TZNAME:CEST
DTSTART:20260329T010000
END:DAYLIGHT
BEGIN:STANDARD
TZOFFSETFROM:+0200
TZOFFSETTO:+0100
TZNAME:CET
DTSTART:20261025T010000
END:STANDARD
END:VTIMEZONE
BEGIN:VEVENT
DTSTART;TZID=Europe/Bratislava:20260506T180000
DTEND;TZID=Europe/Bratislava:20260506T200000
DTSTAMP:20260425T000345
CREATED:20250728T091156Z
LAST-MODIFIED:20260325T074053Z
UID:20926-1778090400-1778097600@skozilina.sk
SUMMARY:CONSERVATORY SYMPHONY ORCHESTRA II.
DESCRIPTION:Symphony Orchestra of the Žilina and Banská Bystrica Conservatories\nMixted Choir of the Žilina Conservatory\nMichal Vaňouček\, conductor\nŠtefan Sedlický\, choirmaster\nPavol Bohdan Zápotočný\, piano\nKatarína Ambrózová\, violin\nTicket price: 12\,- €. No season tickets.
URL:https://skozilina.sk/podujatie/symfonicky-orchester-konzervatoria-5/?lang=en
LOCATION:Žilinský kraj
CATEGORIES:52. sezóna 2025/2026
ATTACH;FMTTYPE=image/jpeg:https://skozilina.sk/wp-content/uploads/2025/07/Symfonicky-orchester-Konzervatoria-2024.jpg
END:VEVENT
BEGIN:VEVENT
DTSTART;TZID=Europe/Bratislava:20260514T190000
DTEND;TZID=Europe/Bratislava:20260514T210000
DTSTAMP:20260425T000345
CREATED:20250701T132306Z
LAST-MODIFIED:20250702T130319Z
UID:20881-1778785200-1778792400@skozilina.sk
SUMMARY:EVENING OF MOZART MUSIC
DESCRIPTION:František Macek\, chief conductor\nPetr Pomkla\, flute\, CZ\nKateřina Englichová\, harp\, CZ\nTicket prices: 10\,- 12\,- 14\,- €. Season tickets.
URL:https://skozilina.sk/podujatie/vecer-mozartovej-hudby/?lang=en
LOCATION:Fatra House of Arts\, Dolný Val 47\, Žilina\, Žilinský kraj\, 010 01\, Slovenská republika
CATEGORIES:52. sezóna 2025/2026
ATTACH;FMTTYPE=image/jpeg:https://skozilina.sk/wp-content/uploads/2025/07/Englichova-Katerina-harfa-3.jpg
ORGANIZER;CN="Slovak Sinfonietta %C5%BDilina":MAILTO:vstupenky@skozilina.sk
END:VEVENT
BEGIN:VEVENT
DTSTART;TZID=Europe/Bratislava:20260517T160000
DTEND;TZID=Europe/Bratislava:20260517T170000
DTSTAMP:20260425T000345
CREATED:20250701T141657Z
LAST-MODIFIED:20260313T092620Z
UID:20884-1779033600-1779037200@skozilina.sk
SUMMARY:TÁRAJKO A POPLETAJKA - BIRTHDAY PARTY
DESCRIPTION:Ticket price: 6\,- €. No season tickets.\nAt the end of each concert\, a raffle is drawn and the best drawings are rewarded.
URL:https://skozilina.sk/podujatie/matine-pre-deti-a-rodicov-tarajko-a-popletajka-narodeninova-party/?lang=en
LOCATION:Fatra House of Arts\, Dolný Val 47\, Žilina\, Žilinský kraj\, 010 01\, Slovenská republika
CATEGORIES:52. sezóna 2025/2026
ATTACH;FMTTYPE=image/jpeg:https://skozilina.sk/wp-content/uploads/2025/02/SKO5197_2025-02-09-Matine-Tarajko-Popletajka_web.jpg
ORGANIZER;CN="Slovak Sinfonietta %C5%BDilina":MAILTO:vstupenky@skozilina.sk
END:VEVENT
BEGIN:VEVENT
DTSTART;TZID=Europe/Bratislava:20260521T190000
DTEND;TZID=Europe/Bratislava:20260521T210000
DTSTAMP:20260425T000345
CREATED:20250701T132816Z
LAST-MODIFIED:20251020T075415Z
UID:20885-1779390000-1779397200@skozilina.sk
SUMMARY:NON-TRADITIONAL SOLO INSTRUMENTS
DESCRIPTION:Konstantin Ilievsky\, conductor\nKlára Kubriczká Přecechtělová\, flute\nMarián Michalec\, percussion\nTicket prices: 10\,- 12\,- 14\,- €. Season tickets.
URL:https://skozilina.sk/podujatie/netradicne-solove-nastroje/?lang=en
LOCATION:Fatra House of Arts\, Dolný Val 47\, Žilina\, Žilinský kraj\, 010 01\, Slovenská republika
CATEGORIES:52. sezóna 2025/2026
ATTACH;FMTTYPE=image/jpeg:https://skozilina.sk/wp-content/uploads/2025/07/DSC_3523B.jpg
ORGANIZER;CN="Slovak Sinfonietta %C5%BDilina":MAILTO:vstupenky@skozilina.sk
END:VEVENT
END:VCALENDAR