BEGIN:VCALENDAR
VERSION:2.0
PRODID:-//SKO Žilina - ECPv6.5.1.3//NONSGML v1.0//EN
CALSCALE:GREGORIAN
METHOD:PUBLISH
X-ORIGINAL-URL:https://skozilina.sk/?lang=en
X-WR-CALDESC:Events for SKO Žilina
REFRESH-INTERVAL;VALUE=DURATION:PT1H
X-Robots-Tag:noindex
X-PUBLISHED-TTL:PT1H
BEGIN:VTIMEZONE
TZID:Europe/Bratislava
BEGIN:DAYLIGHT
TZOFFSETFROM:+0100
TZOFFSETTO:+0200
TZNAME:CEST
DTSTART:20260329T010000
END:DAYLIGHT
BEGIN:STANDARD
TZOFFSETFROM:+0200
TZOFFSETTO:+0100
TZNAME:CET
DTSTART:20261025T010000
END:STANDARD
END:VTIMEZONE
BEGIN:VEVENT
DTSTART;TZID=Europe/Bratislava:20260305T190000
DTEND;TZID=Europe/Bratislava:20260305T210000
DTSTAMP:20260425T000534
CREATED:20250701T124346Z
LAST-MODIFIED:20260203T143339Z
UID:20860-1772737200-1772744400@skozilina.sk
SUMMARY:WELL-KNOWN PIANO WORKS AND SONGS ARRANGED FOR SLOVAK SINFONIETTA
DESCRIPTION:Slovak Sinfonietta Žilina\nFrantišek Macek\, chief conductor\nAdam Marec\, guitar\nMichal Červienka\, bandoneon\n  \nTicket prices: 10\,- 12\,- 14\,- €. Season tickets.
URL:https://skozilina.sk/podujatie/zname-klavirne-diela-a-piesne-v-uprave-pre-sko/?lang=en
LOCATION:Fatra House of Arts\, Dolný Val 47\, Žilina\, Žilinský kraj\, 010 01\, Slovenská republika
CATEGORIES:52. sezóna 2025/2026
ATTACH;FMTTYPE=image/jpeg:https://skozilina.sk/wp-content/uploads/2025/07/Marec-Adam-gitara.jpg
ORGANIZER;CN="Slovak Sinfonietta %C5%BDilina":MAILTO:vstupenky@skozilina.sk
END:VEVENT
BEGIN:VEVENT
DTSTART;TZID=Europe/Bratislava:20260319T190000
DTEND;TZID=Europe/Bratislava:20260319T210000
DTSTAMP:20260425T000534
CREATED:20250701T124902Z
LAST-MODIFIED:20260312T132617Z
UID:20862-1773946800-1773954000@skozilina.sk
SUMMARY:SOLO FOR TWO STEINWAYS II.
DESCRIPTION:Shoko Kawasaki\, piano\, Japan\nJakub Čižmarovič\, piano\nTicket price: 12\,- €. Season tickets.
URL:https://skozilina.sk/podujatie/solo-pre-dva-steinwaye-5/?lang=en
LOCATION:Fatra House of Arts\, Dolný Val 47\, Žilina\, Žilinský kraj\, 010 01\, Slovenská republika
CATEGORIES:52. sezóna 2025/2026
ATTACH;FMTTYPE=image/jpeg:https://skozilina.sk/wp-content/uploads/2025/07/Kawasaki-Cizmarovic-duo-2.jpg
ORGANIZER;CN="Slovak Sinfonietta %C5%BDilina":MAILTO:vstupenky@skozilina.sk
END:VEVENT
BEGIN:VEVENT
DTSTART;TZID=Europe/Bratislava:20260326T190000
DTEND;TZID=Europe/Bratislava:20260326T210000
DTSTAMP:20260425T000534
CREATED:20250701T125612Z
LAST-MODIFIED:20250702T123924Z
UID:20864-1774551600-1774558800@skozilina.sk
SUMMARY:AN EVENING WITH THE MUSIC OF TCHAIKOVSKY
DESCRIPTION:Peter Valentovič\, conductor\nRyan Martin Bradshaw\, piano\nTicket prices: 18\,- 20\,- 22\,- €.Season tickets are only valid on Thursday\, March 26\, 2026.
URL:https://skozilina.sk/podujatie/vecer-s-hudbou-cajkovskeho/?lang=en
LOCATION:Fatra House of Arts\, Dolný Val 47\, Žilina\, Žilinský kraj\, 010 01\, Slovenská republika
CATEGORIES:52. sezóna 2025/2026
ATTACH;FMTTYPE=image/jpeg:https://skozilina.sk/wp-content/uploads/2025/07/Valentovic-Peter.jpg
ORGANIZER;CN="Slovak Sinfonietta %C5%BDilina":MAILTO:vstupenky@skozilina.sk
END:VEVENT
BEGIN:VEVENT
DTSTART;TZID=Europe/Bratislava:20260327T190000
DTEND;TZID=Europe/Bratislava:20260327T210000
DTSTAMP:20260425T000534
CREATED:20250701T130053Z
LAST-MODIFIED:20250702T123953Z
UID:20865-1774638000-1774645200@skozilina.sk
SUMMARY:AN EVENING WITH THE MUSIC OF TCHAIKOVSKY
DESCRIPTION:Peter Valentovič\, conductor\nRyan Martin Bradshaw\, piano\nTicket prices: 18\,- 20\,- 22\,- €.Season tickets are only valid on Thursday\, March 26\, 2026.
URL:https://skozilina.sk/podujatie/vecer-s-hudbou-cajkovskeho-2/?lang=en
LOCATION:Fatra House of Arts\, Dolný Val 47\, Žilina\, Žilinský kraj\, 010 01\, Slovenská republika
CATEGORIES:52. sezóna 2025/2026
ATTACH;FMTTYPE=image/jpeg:https://skozilina.sk/wp-content/uploads/2025/07/Valentovic-Peter.jpg
ORGANIZER;CN="Slovak Sinfonietta %C5%BDilina":MAILTO:vstupenky@skozilina.sk
END:VEVENT
BEGIN:VEVENT
DTSTART;TZID=Europe/Bratislava:20260329T160000
DTEND;TZID=Europe/Bratislava:20260329T170000
DTSTAMP:20260425T000534
CREATED:20250701T141123Z
LAST-MODIFIED:20260313T092810Z
UID:20872-1774800000-1774803600@skozilina.sk
SUMMARY:FAMOUS CZECHOSLOVAK FAIRY TALES
DESCRIPTION:Slovak Sinfonietta Žilina\nGabriel Rovňák\, conductor\nSoloists TBA\nTicket price: 6\,- €. No season tickets.\nAt the end of each concert\, a raffle is drawn and the best drawings are rewarded.
URL:https://skozilina.sk/podujatie/matine-pre-deti-a-rodicov-slavne-ceskoslovenske-rozpravky/?lang=en
LOCATION:Fatra House of Arts\, Dolný Val 47\, Žilina\, Žilinský kraj\, 010 01\, Slovenská republika
CATEGORIES:52. sezóna 2025/2026
ATTACH;FMTTYPE=image/jpeg:https://skozilina.sk/wp-content/uploads/2025/07/matine.jpg
ORGANIZER;CN="Slovak Sinfonietta %C5%BDilina":MAILTO:vstupenky@skozilina.sk
END:VEVENT
END:VCALENDAR