BEGIN:VCALENDAR
VERSION:2.0
PRODID:-//SKO Žilina - ECPv6.5.1.3//NONSGML v1.0//EN
CALSCALE:GREGORIAN
METHOD:PUBLISH
X-WR-CALNAME:SKO Žilina
X-ORIGINAL-URL:https://skozilina.sk
X-WR-CALDESC:Events for SKO Žilina
REFRESH-INTERVAL;VALUE=DURATION:PT1H
X-Robots-Tag:noindex
X-PUBLISHED-TTL:PT1H
BEGIN:VTIMEZONE
TZID:Europe/Bratislava
BEGIN:DAYLIGHT
TZOFFSETFROM:+0100
TZOFFSETTO:+0200
TZNAME:CEST
DTSTART:20260329T010000
END:DAYLIGHT
BEGIN:STANDARD
TZOFFSETFROM:+0200
TZOFFSETTO:+0100
TZNAME:CET
DTSTART:20261025T010000
END:STANDARD
END:VTIMEZONE
BEGIN:VEVENT
DTSTART;TZID=Europe/Bratislava:20260618T190000
DTEND;TZID=Europe/Bratislava:20260618T210000
DTSTAMP:20260424T234516
CREATED:20250701T134841Z
LAST-MODIFIED:20251128T114948Z
UID:20775-1781809200-1781816400@skozilina.sk
SUMMARY:ZÁVEREČNÝ KONCERT 52. SEZÓNY
DESCRIPTION:Leoš Svárovský\, čestný šéfdirigent ŠKO Žilina\nNazar Spas\, lesný roh\, 1. hornista ŠKO Žilina\nMischa Carr\, klavír\, Veľká Británia\nVstupné: 12\,- 14\,- 16\,- €. Abonentné vstupenky platia. \nVážení zákazníci\, v prípade technických problémov pri online nákupe lístkov uhrádzaných kartou prosíme\, aby ste pri svojej objednávke využili možnosť osobného vyzdvihnutia.
URL:https://skozilina.sk/podujatie/zaverecny-koncert-52-sezony/
LOCATION:Dom umenia Fatra\, Dolný val 47\, Žilina\, Žilinský kraj\, 010 01\, Slovenská republika
CATEGORIES:52. sezóna 2025/2026
ATTACH;FMTTYPE=image/jpeg:https://skozilina.sk/wp-content/uploads/2025/07/Svarovsky-Leos-2.jpg
ORGANIZER;CN="%C5%A0t%C3%A1tny komorn%C3%BD orchester %C5%BDilina":MAILTO:vstupenky@skozilina.sk
END:VEVENT
END:VCALENDAR