BEGIN:VCALENDAR
VERSION:2.0
PRODID:-//SKO Žilina - ECPv6.5.1.3//NONSGML v1.0//EN
CALSCALE:GREGORIAN
METHOD:PUBLISH
X-ORIGINAL-URL:https://skozilina.sk
X-WR-CALDESC:Events for SKO Žilina
REFRESH-INTERVAL;VALUE=DURATION:PT1H
X-Robots-Tag:noindex
X-PUBLISHED-TTL:PT1H
BEGIN:VTIMEZONE
TZID:Europe/Bratislava
BEGIN:DAYLIGHT
TZOFFSETFROM:+0100
TZOFFSETTO:+0200
TZNAME:CEST
DTSTART:20260329T010000
END:DAYLIGHT
BEGIN:STANDARD
TZOFFSETFROM:+0200
TZOFFSETTO:+0100
TZNAME:CET
DTSTART:20261025T010000
END:STANDARD
END:VTIMEZONE
BEGIN:VEVENT
DTSTART;TZID=Europe/Bratislava:20260611T190000
DTEND;TZID=Europe/Bratislava:20260611T210000
DTSTAMP:20260424T234902
CREATED:20250701T134431Z
LAST-MODIFIED:20260415T081456Z
UID:20770-1781204400-1781211600@skozilina.sk
SUMMARY:ORGANOVÝ VEČER
DESCRIPTION:Tomáš Mihalik\, organ\nNina Suľová\, organ\nJednotné vstupné: 12\,- €. Abonentné vstupenky platia. \nVážení zákazníci\, v prípade technických problémov pri online nákupe lístkov uhrádzaných kartou prosíme\, aby ste pri svojej objednávke využili možnosť osobného vyzdvihnutia.
URL:https://skozilina.sk/podujatie/organovy-vecer-3/
LOCATION:Dom umenia Fatra\, Dolný val 47\, Žilina\, Žilinský kraj\, 010 01\, Slovenská republika
CATEGORIES:52. sezóna 2025/2026
ATTACH;FMTTYPE=image/jpeg:https://skozilina.sk/wp-content/uploads/2025/07/Mihalik-Tomas-organ-2-e1751377612153.jpg
ORGANIZER;CN="%C5%A0t%C3%A1tny komorn%C3%BD orchester %C5%BDilina":MAILTO:vstupenky@skozilina.sk
END:VEVENT
END:VCALENDAR