BEGIN:VCALENDAR
VERSION:2.0
PRODID:-//SKO Žilina - ECPv6.5.1.3//NONSGML v1.0//EN
CALSCALE:GREGORIAN
METHOD:PUBLISH
X-WR-CALNAME:SKO Žilina
X-ORIGINAL-URL:https://skozilina.sk
X-WR-CALDESC:Events for SKO Žilina
REFRESH-INTERVAL;VALUE=DURATION:PT1H
X-Robots-Tag:noindex
X-PUBLISHED-TTL:PT1H
BEGIN:VTIMEZONE
TZID:Europe/Bratislava
BEGIN:DAYLIGHT
TZOFFSETFROM:+0100
TZOFFSETTO:+0200
TZNAME:CEST
DTSTART:20260329T010000
END:DAYLIGHT
BEGIN:STANDARD
TZOFFSETFROM:+0200
TZOFFSETTO:+0100
TZNAME:CET
DTSTART:20261025T010000
END:STANDARD
END:VTIMEZONE
BEGIN:VEVENT
DTSTART;TZID=Europe/Bratislava:20260506T180000
DTEND;TZID=Europe/Bratislava:20260506T200000
DTSTAMP:20260424T224419
CREATED:20250728T091156Z
LAST-MODIFIED:20260422T141322Z
UID:20924-1778090400-1778097600@skozilina.sk
SUMMARY:SYMFONICKÝ ORCHESTER KONZERVATÓRIA II.
DESCRIPTION:Spojený symfonický orchester Konzervatória Žilina a Banská Bystrica\nMiešaný zbor konzervatória Žilina\nMichal Vaňouček\, dirigent\nŠtefan Sedlický\, zbormajster\nPavol Bohdan Zápotočný\, klavír\nKatarína Ambrózová\, husle\nVstupné: 12\,- €. Abonentné vstupenky neplatia. \nVážení zákazníci\, v prípade technických problémov pri online nákupe lístkov uhrádzaných kartou prosíme\, aby ste pri svojej objednávke využili možnosť osobného vyzdvihnutia.
URL:https://skozilina.sk/podujatie/symfonicky-orchester-konzervatoria-5/
LOCATION:Žilinský kraj
CATEGORIES:52. sezóna 2025/2026
ATTACH;FMTTYPE=image/jpeg:https://skozilina.sk/wp-content/uploads/2025/07/Symfonicky-orchester-Konzervatoria-2024.jpg
END:VEVENT
END:VCALENDAR