BEGIN:VCALENDAR
VERSION:2.0
PRODID:-//SKO Žilina - ECPv6.5.1.3//NONSGML v1.0//EN
CALSCALE:GREGORIAN
METHOD:PUBLISH
X-WR-CALNAME:SKO Žilina
X-ORIGINAL-URL:https://skozilina.sk
X-WR-CALDESC:Events for SKO Žilina
REFRESH-INTERVAL;VALUE=DURATION:PT1H
X-Robots-Tag:noindex
X-PUBLISHED-TTL:PT1H
BEGIN:VTIMEZONE
TZID:Europe/Bratislava
BEGIN:DAYLIGHT
TZOFFSETFROM:+0100
TZOFFSETTO:+0200
TZNAME:CEST
DTSTART:20260329T010000
END:DAYLIGHT
BEGIN:STANDARD
TZOFFSETFROM:+0200
TZOFFSETTO:+0100
TZNAME:CET
DTSTART:20261025T010000
END:STANDARD
END:VTIMEZONE
BEGIN:VEVENT
DTSTART;TZID=Europe/Bratislava:20260421T190000
DTEND;TZID=Europe/Bratislava:20260421T210000
DTSTAMP:20260424T212904
CREATED:20250701T131559Z
LAST-MODIFIED:20260313T110008Z
UID:20744-1776798000-1776805200@skozilina.sk
SUMMARY:ALLEGRETTO 2026 – KOMORNÝ KONCERT
DESCRIPTION:KOMORNÝ KONCERT\nMinja Stojanović\, harfa / Srbsko\nDaniel Kfelíř\, barytón / Česká republika\nRóbert Pechanec\, klavír / Slovenská republika\nVstupné: 10\,-€. Platia abonentné vstupenky festivalu Allegretto.
URL:https://skozilina.sk/podujatie/allegretto-2026-2/
LOCATION:Dom umenia Fatra\, Dolný val 47\, Žilina\, Žilinský kraj\, 010 01\, Slovenská republika
CATEGORIES:52. sezóna 2025/2026
ATTACH;FMTTYPE=image/jpeg:https://skozilina.sk/wp-content/uploads/2025/07/Allegretto-2025.jpg
ORGANIZER;CN="%C5%A0t%C3%A1tny komorn%C3%BD orchester %C5%BDilina":MAILTO:vstupenky@skozilina.sk
END:VEVENT
END:VCALENDAR