BEGIN:VCALENDAR
VERSION:2.0
PRODID:-//SKO Žilina - ECPv6.5.1.3//NONSGML v1.0//EN
CALSCALE:GREGORIAN
METHOD:PUBLISH
X-WR-CALNAME:SKO Žilina
X-ORIGINAL-URL:https://skozilina.sk/?lang=en
X-WR-CALDESC:Events for SKO Žilina
REFRESH-INTERVAL;VALUE=DURATION:PT1H
X-Robots-Tag:noindex
X-PUBLISHED-TTL:PT1H
BEGIN:VTIMEZONE
TZID:Europe/Bratislava
BEGIN:DAYLIGHT
TZOFFSETFROM:+0100
TZOFFSETTO:+0200
TZNAME:CEST
DTSTART:20260329T010000
END:DAYLIGHT
BEGIN:STANDARD
TZOFFSETFROM:+0200
TZOFFSETTO:+0100
TZNAME:CET
DTSTART:20261025T010000
END:STANDARD
END:VTIMEZONE
BEGIN:VEVENT
DTSTART;TZID=Europe/Bratislava:20260412T150000
DTEND;TZID=Europe/Bratislava:20260412T170000
DTSTAMP:20260425T000339
CREATED:20260407T101456Z
LAST-MODIFIED:20260411T080511Z
UID:24012-1776006000-1776013200@skozilina.sk
SUMMARY:Finále Medzinárodnej speváckej súťaže Rudolfa Petráka
DESCRIPTION:Štátny komorný orchester Žilina\nAdam Sedlický\, dirigent\nFinalistky a finalisti súťaže\nVstup voľný
URL:https://skozilina.sk/podujatie/finale-medzinarodnej-spevackej-sutaze-rudolfa-petraka-2/?lang=en
LOCATION:Fatra House of Arts\, Dolný Val 47\, Žilina\, Žilinský kraj\, 010 01\, Slovenská republika
CATEGORIES:52. sezóna 2025/2026
ATTACH;FMTTYPE=image/jpeg:https://skozilina.sk/wp-content/uploads/2026/04/Petrak-finale-pozvanka-e1775556999600.jpg
ORGANIZER;CN="Slovak Sinfonietta %C5%BDilina":MAILTO:vstupenky@skozilina.sk
END:VEVENT
END:VCALENDAR